BEGIN:VCALENDAR
VERSION:2.0
PRODID:-//TJ Spartak Čelákovice - ECPv6.15.0.1//NONSGML v1.0//EN
CALSCALE:GREGORIAN
METHOD:PUBLISH
X-ORIGINAL-URL:https://spartakcelakovice.cz
X-WR-CALDESC:Akce na TJ Spartak Čelákovice
REFRESH-INTERVAL;VALUE=DURATION:PT1H
X-Robots-Tag:noindex
X-PUBLISHED-TTL:PT1H
BEGIN:VTIMEZONE
TZID:Europe/Prague
BEGIN:DAYLIGHT
TZOFFSETFROM:+0100
TZOFFSETTO:+0200
TZNAME:CEST
DTSTART:20190331T010000
END:DAYLIGHT
BEGIN:STANDARD
TZOFFSETFROM:+0200
TZOFFSETTO:+0100
TZNAME:CET
DTSTART:20191027T010000
END:STANDARD
END:VTIMEZONE
BEGIN:VTIMEZONE
TZID:UTC
BEGIN:STANDARD
TZOFFSETFROM:+0000
TZOFFSETTO:+0000
TZNAME:UTC
DTSTART:20190101T000000
END:STANDARD
END:VTIMEZONE
BEGIN:VTIMEZONE
TZID:Atlantic/Azores
BEGIN:DAYLIGHT
TZOFFSETFROM:-0100
TZOFFSETTO:+0000
TZNAME:+00
DTSTART:20190331T010000
END:DAYLIGHT
BEGIN:STANDARD
TZOFFSETFROM:+0000
TZOFFSETTO:-0100
TZNAME:-01
DTSTART:20191027T010000
END:STANDARD
END:VTIMEZONE
BEGIN:VEVENT
DTSTART;TZID=Europe/Prague:20191207T080000
DTEND;TZID=Europe/Prague:20191207T170000
DTSTAMP:20260419T152621
CREATED:20191124T194902Z
LAST-MODIFIED:20191124T195024Z
UID:1467-1575705600-1575738000@spartakcelakovice.cz
SUMMARY:O pohár starosty města Čelákovice
DESCRIPTION:6. šachový turnaj dětí a mládež\nHráno jako turnaj regionálního přeboru mládeže regionu SD-Polabí 2019-2020 \nTermín: Sobota 7. 12. 2019 \nPrezence: 8:15 – 9:00\, předpokládané ukončení 16:30 hod. \nMísto: ZŠ „Kamenka“\, Kostelní 457\, Čelákovice\nPrávo účasti: Děvčata a chlapci narození 1. 1. 2001 a mladší\nRozhodčí: Robert Kubíček (r. 2. tř.)\, Zbyněk Jankovský (r. 3. tř.)\, Bořivoj Kolář (r. 3. tř)\, Pavel Horký\nŘeditel turnaje: Peter Janda\, tel.: 604 713 180  \nVěkové kategorie: \n\nVěkové kategorie dle MČR:\nJunioři: HD 20 a mladší (2001-2004)\nTurnaj starších: HD 14 + HD 16 (2005-2008)\nTurnaj mladších: HD10 + HD 12 (2009 a mladší)\n\nSystém turnaje: Švýcarský systém na 7 kol. Hraje se podle Přílohy Pravidel šachu ŠSČR pro rapid a bleskový šach. \nTempo hry: 2 x 20 minut na partii mladší žáci\, 2 x 20 minut + 5 sec ostatní. Pořadatel si vyhrazuje právo na změnu systému nebo organizaci turnaje. \nHráči\, kteří nebudou přihlášeni předem\, mohou být přijati do turnaje pouze do vyčerpání kapacity hrací místnosti. \nTurnaj bude započítán na rapid ELO ČR.  \nStartovné: Přihlášení 60\,- Kč\, nepřihlášení 100\,- Kč\nÚčastníci akce Šachy v přírodě mají slevu na startovném. \nCeny: Pohár pro celkového vítěze\, medaile a diplomy pro nejlepší. Drobné ceny pro všechny účastníky. \nPřihlášky:\n– Zaslání přihlášky do 4. 12. 2019\n– Celé jméno\, datum narození\, ELO nebo VT\, klub\, u registrovaných reg. číslo u šachového svazu\n– Přihlášky na adresu sachovakouzla@seznam.cz\, případně sms na ředitele turnaje\n– Hráči nepřihlášení v termínu nemusí být přijati do turnaje! \nPodmínky účasti: Na každého lichého hráče nutno přivést šachovou soupravu + hodiny (pro starší žáky a juniory DIGITÁLNÍ). Přezůvky! Za nezletilé hráče zodpovídá vedoucí osoba starší 18 let. \nObčerstvení: K dispozici bufet\, kde bude možné zakoupit drobné občerstvení (párky\, sušenky\, káva\, limonáda). Přestávka na oběd není plánovaná. \nAkci pořádá: \nŠkola šachových kouzel\, z.s. spolu s\n\n			\n				\n			\n				\n				Šachový klub při TJ Spartak Čelákovice\, z.s \n				\n			\n				\n			\n				\n				Základní škola Čelákovice\, Kostelní 457\n				\n		\n\nS laskavou podporou:\n\n			\n				\n			\n				\n				Město Čelákovice\n				\n			\n				\n			\n				\n				Městský Dům Dětí a Mládeže\n				\n		\n\n 
URL:https://spartakcelakovice.cz/event/o-pohar-starosty-mesta-celakovice/
LOCATION:ZŠ „Kamenka“\, Kostelní 457\, Čelákovice\, Středočeský\, 25088
CATEGORIES:Šachy
ATTACH;FMTTYPE=image/jpeg:https://spartakcelakovice.cz/wp-content/uploads/2019/03/cover-fcb.jpg
ORGANIZER;CN="TJ Spartak %C4%8Cel%C3%A1kovice %C5%A0achy":MAILTO:sachovakouzla@seznam.cz
END:VEVENT
BEGIN:VEVENT
DTSTART;TZID=UTC:20190906T130000
DTEND;TZID=UTC:20190906T170000
DTSTAMP:20260419T152621
CREATED:20190302T144914Z
LAST-MODIFIED:20190331T095949Z
UID:532-1567774800-1567789200@spartakcelakovice.cz
SUMMARY:57. ročník ČELÁKOVICKÁ HODINOVKA
DESCRIPTION:Legendární běžecký závod\, který se v tomto roce uskuteční po 57. Navazujeme na tradici od roku 1955 a hned na prvním ročníku v Čelákovicích v roce 1955 byly překonány dva světové rekordy na 15 mil a 25 km. A to nikým jiným\, než naším nejlepším běžcem historie Emilem Zátopkem. \nI přes velké množství běžeckých závodů v posledních letech\, patří Čelákovická hodinovka k ojedinělé formě běžeckého závodu\, který je atraktivní jak pro samotné běžce\, tak diváky. Tartanový povrch s předvídatelným terénem umožňuje závodníkům maximálně se soustředit na svůj běh\, s cílem vytvoření svých dětiosobních rekordů. Díky uzavřenému okruhu nepřichází o atmosféru celého závodu ani diváci\, kteří mohou svého favorita povzbuzovat\, či vše přehledně sledovat z tribuny stadionu. K doplnění atmosféry po celou dobu hraje hudba a je zajištěno drobné občerstvení. \nV tomto roce bude poprvé použita moderní technologie pro měření uběhnuté vzdálenosti. Každý závodník obdrží čip\, díky kterému budou zaznamenávány jednotlivá kola. Po uplynutí časomíry bude doměřena atletům uběhnutá vzdálenost nedokončeného kola. \nPřihlášení k závodu: prostřednictvím elektronické přihlášky na www.atletikacelakovice.cz\, přihlášení možné do 1. 10. 2019. \nZačátek registrace a celé akce: 13:00\, registrace je ukončena ve 14:00 v den závodu. \nStart: 14:30\, v případě naplnění kapacity prvního závodu se bude konat další závod v 16:00. \nStartovné: \n\n\n\n\n\n\n\n\n\nbezhotovostní platba: 200\,- Kč (částka musí být připsána na účet nejpozději 2. 10. 2019\, jinak je registrace neplatná).\nhotovost na místě v den závodu: 300\,- Kč (platba včetně registrace musí být provedena do 14:00)\n\n\n\n\n\n\n\n\n\nBezhotovostní platbu proveďte na bankovní účet: \nčíslo bankovního účtu: 0424481389 / 0800 \nvariabilní symbol: 2019001 \nkonstantní symbol: 0308 \nDo zprávy pro příjemce prosím uveďte Vaše jméno a příjmení. \nČas závodu: 1 hodina \nCílem závodu je za určený čas jedné hodiny uběhnout na běžeckém oválu co nejdelší vzdálenost. Závodníkovi jsou počítána jednotlivá kola a po uplynutí stanoveného času je dopočtena uběhnutá vzdálenost. \n\n\n\n\n\n\nVyhlašované kategorie \n\nženy do 24 let muži do 24 let \nženy 25 -34 let muži 25 – 34 let \nženy 35 – 44 let muži 35 – 44 let \nženy 45 – 54 let muži 45 – 54 let \nženy nad 55 let muži nad 55 let \nPodmínky závodu\n\nPro zařazení do kategorie je rozhodující rok narození běžce.\nKaždý účastník si je vědom rizik spočívajících v nebezpečí vzniku škody nebo újmy na zdraví vzniklé při účasti v závodě.\nKaždý účastník prohlašuje\, že se závodu účastní dobrovolně.\nKaždý účastník se účastní závodu na vlastní riziko a nebezpečí\, a odpovídá výlučně sám za svou fyzickou připravenost a způsobilost.\nPořadatel si vyhrazuje právo změn v programu\, propozicích\, těchto pravidlech a podmínkách bez předchozího oznámení.\nPořadatel si vyhrazuje právo na změnu jakýkoliv údajů na webových stránkách www.atletikacelakovice.cz bez předchozího upozornění.\nÚčastník musí mít po celou dobu viditelně připevněno startovní číslo předepsaným způsobem\, tj. na hrudi a nepřehnuté. Jinak může být okamžitě vyloučen z účasti a diskvalifikován.\nÚčastník je povinen po celou dobu závodu respektovat pokyny Pořadatele.\nNa samotných účastnících leží osobní odpovědnost za rozhodnutí o své fyzické připravenosti a schopnosti uběhnout závod během určeného času.\nZávod se uskuteční bez ohledu na povětrnostní podmínky. Pouze v případě extrémních podmínek (horko\, zima\, bouřky\, apod.) je Pořadatel oprávněn odsunout start závodu nebo zrušit závod bez náhrady dle aktuální situace. Startovné se účastníkům v takovém případě nevrací.\nPořadatel není odpovědný za jakoukoliv újmu na zdraví\, škodu na majetku nebo jinou úhonu vzniklou v souvislosti s účastí v závodě nebo jeho sledováním.\nVeškeré obrazové i zvukové záznamy a podobizny účastníků pořízené během závodu mohou být použity k vlastní propagaci Pořadatele nebo k propagaci jeho partnerů bez jakéhokoliv nároku účastníků na jakoukoliv odměnu.\nŽádné z rozhodnutí Pořadatele nepodléhá soudnímu přezkumu.\n\n\n\n\n\n\n\nRegistrace \n\n\nPořadatel má právo přerušit nebo uzavřít registraci bez předchozího upozornění.\nRegistrace se provádí prostřednictvím on-line registračního formuláře na internetových stránkách www.atletikacelakovice.cz\nRegistrační poplatek přes registrační formulář je 200\,- Kč\, je konečný a nevratný. Elektronická registrace musí být provedena nejpozději 1. 10. 2019. Registrace na místě pořádní v den závodu je 300\,- Kč a je ji možné provést do 14:00.\nRegistrace je považována za platnou až po jejím zaplacení. Zaplacením se rozumí připsání celé částky na účet Pořadatele.\nRegistrační poplatek je nevratný.\nRegistrační poplatek je převoditelný (např. ze zdravotních důvodů).
URL:https://spartakcelakovice.cz/event/57-rocnik-celakovicka-hodinovka/
LOCATION:Atletický stadión Čelákovice\, U kapličky 1288/8\, Čelákovice\, Středočeský\, 25088\, Česká republika
CATEGORIES:Atletika
ATTACH;FMTTYPE=image/jpeg:https://spartakcelakovice.cz/wp-content/uploads/2019/03/atletika-slide-1.jpg
ORGANIZER;CN="TJ Spartak %C4%8Cel%C3%A1kovice Atletika":MAILTO:info@atletikacelakovice.cz
END:VEVENT
BEGIN:VEVENT
DTSTART;VALUE=DATE:20190629
DTEND;VALUE=DATE:20190707
DTSTAMP:20260419T152621
CREATED:20190303T145735Z
LAST-MODIFIED:20190303T145735Z
UID:582-1561766400-1562457599@spartakcelakovice.cz
SUMMARY:LETNÍ TÁBOR S ATLETIKOU 2019
DESCRIPTION:Opět vás čeká pestrý táborový program\, ve kterém nebudou chybět hry\, dobrodružství a sport. \nJedeme tentokrát na Vysočinu\, do krásného rekreačního střediska Křižanov (mapa). Ubytováni budeme ve zděné budově\, součástí areálu je les\, hřiště\, rybník. Stravování bude zajištěno 5x denně\, snídaně formou švédského stolu\, dostatek ovoce\, zeleniny. \nKapacita je omezena\, proto se hlaste co nejdříve. \nFormulář k registraci ZDE \nTermín:  sobota 29.6. 2019 – sobota 6.7. 2019 \nMísto:  Rekreační středisko Křižanov www.rekreacnistrediska.cz/strediska/krizanov \nCena: 4 000\,- (v ceně je zahrnuta strava 5x denně\, ubytování v pensionu\, autobus tam a zpět\, výlety\, požitky\, odměny) \n 
URL:https://spartakcelakovice.cz/event/letni-tabor-s-atletikou-2019/
LOCATION:Rekreační středisko Křižanov\, 594 51 Křižanov\, Křižanov\, 59451\, Česká republika
CATEGORIES:Atletika
ATTACH;FMTTYPE=image/jpeg:https://spartakcelakovice.cz/wp-content/uploads/2019/03/atletika-slide-3.jpg
ORGANIZER;CN="TJ Spartak %C4%8Cel%C3%A1kovice Atletika":MAILTO:info@atletikacelakovice.cz
END:VEVENT
BEGIN:VEVENT
DTSTART;TZID=UTC:20190430T160000
DTEND;TZID=UTC:20190430T233000
DTSTAMP:20260419T152621
CREATED:20190302T132223Z
LAST-MODIFIED:20190302T163914Z
UID:506-1556640000-1556667000@spartakcelakovice.cz
SUMMARY:Čarodějnická party na hřišti
DESCRIPTION:Čarodějnická party pro děti a dospělé. Zábavné odpoledne s opékáním buřtů a večer s rockovou muzikou v podání skupiny RAMPA.
URL:https://spartakcelakovice.cz/event/carodejnicka-party-na-hristi/
LOCATION:Hřiště – TJ Spartak Čelákovice\, U kapličky 8\, Čelákovice\, Středočeský\, 25088\, Česká republika
CATEGORIES:Fotbal
ATTACH;FMTTYPE=image/jpeg:https://spartakcelakovice.cz/wp-content/uploads/2019/03/čarodky-fcb-cover.jpg
ORGANIZER;CN="TJ Spartak %C4%8Cel%C3%A1kovice Fotbal":MAILTO:tjspartakfotbal@seznam.cz
END:VEVENT
BEGIN:VEVENT
DTSTART;TZID=Atlantic/Azores:20190413T170000
DTEND;TZID=Atlantic/Azores:20190413T210000
DTSTAMP:20260419T152621
CREATED:20190331T094907Z
LAST-MODIFIED:20190331T100008Z
UID:1286-1555174800-1555189200@spartakcelakovice.cz
SUMMARY:Finále play off
DESCRIPTION:
URL:https://spartakcelakovice.cz/event/finale-play-off/
LOCATION:Sokolovna -TJ Spartak Čelákovice\, Masarykova 585/16\, Čelákovice\, Středočeský\, 25088\, Česká republika
CATEGORIES:Stolní tenis
ATTACH;FMTTYPE=image/png:https://spartakcelakovice.cz/wp-content/uploads/2019/03/fcbArtboard-1.png
ORGANIZER;CN="TJ Spartak %C4%8Cel%C3%A1kovice Stoln%C3%AD tenis":MAILTO:info@stolniteniscelakovice.cz
END:VEVENT
BEGIN:VEVENT
DTSTART;TZID=Atlantic/Azores:20190413T143000
DTEND;TZID=Atlantic/Azores:20190413T170000
DTSTAMP:20260419T152621
CREATED:20190319T183445Z
LAST-MODIFIED:20190319T183445Z
UID:1189-1555165800-1555174800@spartakcelakovice.cz
SUMMARY:TJ Spartak ALUTEC KK Čelákovice vs. SK Šacung Benešov 1947
DESCRIPTION:
URL:https://spartakcelakovice.cz/event/tj-spartak-alutec-kk-celakovice-vs-sk-sacung-benesov/
LOCATION:ALUTEC KK ARÉNA Čelákovice\, Ve Vrbí\, Čelákovice\, Středočeský\, 25088\, Czech Republic
CATEGORIES:Nohejbal
ATTACH;FMTTYPE=image/jpeg:https://spartakcelakovice.cz/wp-content/uploads/2019/03/nohec-2Artboard-1-100.jpg
ORGANIZER;CN="TJ Spartak %C4%8Cel%C3%A1kovice Nohejbal":MAILTO:spilkamartin@seznam.cz
END:VEVENT
BEGIN:VEVENT
DTSTART;TZID=Atlantic/Azores:20190330T170000
DTEND;TZID=Atlantic/Azores:20190331T170000
DTSTAMP:20260419T152621
CREATED:20190323T080829Z
LAST-MODIFIED:20190323T080829Z
UID:1240-1553965200-1554051600@spartakcelakovice.cz
SUMMARY:První kolo play off
DESCRIPTION:
URL:https://spartakcelakovice.cz/event/prvni-kolo-play-off/
LOCATION:Sokolovna -TJ Spartak Čelákovice\, Masarykova 585/16\, Čelákovice\, Středočeský\, 25088\, Česká republika
CATEGORIES:Stolní tenis
ATTACH;FMTTYPE=image/png:https://spartakcelakovice.cz/wp-content/uploads/2019/03/banner-fcbArtboard-1-8.png
ORGANIZER;CN="TJ Spartak %C4%8Cel%C3%A1kovice Stoln%C3%AD tenis":MAILTO:info@stolniteniscelakovice.cz
END:VEVENT
BEGIN:VEVENT
DTSTART;TZID=UTC:20190309T190000
DTEND;TZID=UTC:20190309T220000
DTSTAMP:20260419T152621
CREATED:20190302T141638Z
LAST-MODIFIED:20190302T164000Z
UID:523-1552158000-1552168800@spartakcelakovice.cz
SUMMARY:TJ Spartak Čelákovice vs. TJ Sokol Starkoč
DESCRIPTION:Utkání stolního tenisu Krajská soutěž 2. trídy sk. D mezi domácím TJ Spartak Čelákovice a TJ Sokol Starkoč.
URL:https://spartakcelakovice.cz/event/tj-spartak-celakovice-vs-tj-sokol-starkoc/
LOCATION:Sokolovna -TJ Spartak Čelákovice\, Masarykova 585/16\, Čelákovice\, Středočeský\, 25088\, Česká republika
CATEGORIES:Stolní tenis
ATTACH;FMTTYPE=image/jpeg:https://spartakcelakovice.cz/wp-content/uploads/2019/03/zapas-starkoc.jpg
ORGANIZER;CN="TJ Spartak %C4%8Cel%C3%A1kovice Stoln%C3%AD tenis":MAILTO:info@stolniteniscelakovice.cz
END:VEVENT
BEGIN:VEVENT
DTSTART;TZID=UTC:20190305T080000
DTEND;TZID=UTC:20190305T170000
DTSTAMP:20260419T152621
CREATED:20190301T163440Z
LAST-MODIFIED:20190302T164045Z
UID:297-1551772800-1551805200@spartakcelakovice.cz
SUMMARY:Válná hromada TJ Spartak Čelákovice
DESCRIPTION:
URL:https://spartakcelakovice.cz/event/valna-hromada-tj-spartak-celakovice/
LOCATION:Středočeský
CATEGORIES:Spartak
ATTACH;FMTTYPE=image/png:https://spartakcelakovice.cz/wp-content/uploads/2019/02/spartak-logo-mesto.png
END:VEVENT
END:VCALENDAR